BEGIN:VCALENDAR
VERSION:2.0
PRODID:-//Conexus Arts Centre - ECPv6.15.20//NONSGML v1.0//EN
CALSCALE:GREGORIAN
METHOD:PUBLISH
X-ORIGINAL-URL:https://conexusartscentre.ca
X-WR-CALDESC:Events for Conexus Arts Centre
REFRESH-INTERVAL;VALUE=DURATION:PT1H
X-Robots-Tag:noindex
X-PUBLISHED-TTL:PT1H
BEGIN:VTIMEZONE
TZID:America/Regina
BEGIN:STANDARD
TZOFFSETFROM:-0600
TZOFFSETTO:-0600
TZNAME:CST
DTSTART:20250101T000000
END:STANDARD
END:VTIMEZONE
BEGIN:VEVENT
DTSTART;TZID=America/Regina:20260501T193000
DTEND;TZID=America/Regina:20260501T230000
DTSTAMP:20260420T081945
CREATED:20250404T193709Z
LAST-MODIFIED:20260317T200503Z
UID:10001913-1777663800-1777676400@conexusartscentre.ca
SUMMARY:Battle Of The Prairies XX
DESCRIPTION:Date: Friday\, May 1 \nTime: 7:30 PM \nOn Sale: Tuesday\, March 17 \nAdvanced Tickets: $28.04 (Includes taxes and fees)\nDay of Price: $39.10 (Includes taxes and fees) \nAccessible Seating: Please contact our Box Office for all wheelchair-accessible tickets and any special requests for accessibility accommodations at 306-525-9999. \nBUY TICKETS \nFor more information or to book tables please contact Frank Fiacco at 306-352-3778.
URL:https://conexusartscentre.ca/event/battle-of-the-prairies/
LOCATION:Conexus Arts Centre – Capital Auto Theatre\, 200 Lakeshore Drive\, Regina\, Saskatchewan\, S4S 7L3\, Canada
CATEGORIES:Show in Calendar,Show in Scroller
ATTACH;FMTTYPE=image/jpeg:https://conexusartscentre.ca/wp-content/uploads/2025/04/Lonsdale-web-1080x1080-002-scaled.jpg
END:VEVENT
BEGIN:VEVENT
DTSTART;TZID=America/Regina:20260502T193000
DTEND;TZID=America/Regina:20260502T220000
DTSTAMP:20260420T081945
CREATED:20250716T172805Z
LAST-MODIFIED:20250721T171951Z
UID:10001954-1777750200-1777759200@conexusartscentre.ca
SUMMARY:RSO Pops - Under Paris Skies With Jill Barber
DESCRIPTION:Date: Saturday\, May 2\, 2026\nTime: 7:30 PM\nDoors Open: 6:30 PM \nStanding Ovation Post Show Reception Presented by Conexus Arts Centre: 9:00 PM \nRegular Tickets: $43.67 – $129.07 (Includes taxes and fees)\n16 & Under: $25.67 (Includes taxes and fees) \nAccessible Seating: Please contact our Box Office for all wheelchair-accessible tickets and any special requests for accessibility accommodations at 306-525-9999. \nBUY TICKETS \nSurrender to the romance of France with Under Paris Skies—an enchanting evening of timeless songs and Parisian flair. \nBeloved Canadian chanteuse Jill Barber brings her vintage glamour to a captivating program featuring lush orchestral arrangements of French classics like La vie en rose. Showcasing music by legendary French artists including Édith Piaf and Charles Trenet\, along with orchestral highlights from Les Misérables \nARTISTS\nGordon Gerrard\, conductor\nJill Barber\, vocals \nCome experience one of Canada’s oldest symphonies right here in the heart of the prairies. Explore the full season on our website: www.reginasymphony.com
URL:https://conexusartscentre.ca/event/rso-pops-under-paris-skies-with-jill-barber/
LOCATION:Conexus Arts Centre – Capital Auto Theatre\, 200 Lakeshore Drive\, Regina\, Saskatchewan\, S4S 7L3\, Canada
CATEGORIES:Show in Calendar,Show in Scroller
ATTACH;FMTTYPE=image/jpeg:https://conexusartscentre.ca/wp-content/uploads/2025/07/POPS-4.jpg
END:VEVENT
BEGIN:VEVENT
DTSTART;TZID=America/Regina:20260503T190000
DTEND;TZID=America/Regina:20260503T210000
DTSTAMP:20260420T081945
CREATED:20250611T205024Z
LAST-MODIFIED:20260413T230316Z
UID:10001939-1777834800-1777842000@conexusartscentre.ca
SUMMARY:Tom Green: Stompin' Comedy Tour
DESCRIPTION:Date: Sunday\, May 3\, 2026\nTime: 7:00 PM \nVenue Pre-Sale: Thursday\, June 19 at 10:00 AM until 10:00 PM\nOn-Sale: Friday\, June 20 at 10:00 AM \nRegular Tickets: $53.80 – $108.21 (Includes fees and taxes)\nPlatinum Tickets: $108.21 (Includes fees and taxes)\nVIP Meet and Greet Add-On: $61.36 (Includes fees and taxes) SOLD OUT\nAvailability is limited! This exclusive add-on includes a post-show meet and greet experience.Please note: This add-on is in addition to your event ticket and does not include admission. A separate event ticket is required. \nAccessible Seating: Please contact our Box Office for all wheelchair-accessible tickets and any special requests for accessibility accommodations at 306-525-9999. \nBUY TICKETS \nTom Green is a groundbreaking Canadian comedian\, actor\, and media pioneer known for his unpredictable MTV show\, cult-classic films like Freddy Got Fingered\, and for inspiring a generation through his early Internet talk show and podcasting. In addition to his return to Canada with a wave of new projects —including a documentary\, comedy special\, reality series\, country album and his upcoming new Crave Original Series\, Tom Green’s Funny Farm\, which marks the first project in his new co-development deal with Bell Media — Tom is back on the road performing live stand-up comedy\, bringing his signature style of humor to audiences worldwide.
URL:https://conexusartscentre.ca/event/tom-green/
LOCATION:Conexus Arts Centre – Capital Auto Theatre\, 200 Lakeshore Drive\, Regina\, Saskatchewan\, S4S 7L3\, Canada
CATEGORIES:Show in Calendar,Show in Scroller
ATTACH;FMTTYPE=image/jpeg:https://conexusartscentre.ca/wp-content/uploads/2025/06/new-show-TomGreen_REGINA_1080x1080.jpg
END:VEVENT
BEGIN:VEVENT
DTSTART;TZID=America/Regina:20260504T193000
DTEND;TZID=America/Regina:20260504T223000
DTSTAMP:20260420T081945
CREATED:20251119T165834Z
LAST-MODIFIED:20251201T155936Z
UID:10001994-1777923000-1777933800@conexusartscentre.ca
SUMMARY:Ron James- The Noise Between Our Ears
DESCRIPTION:Date: Monday\, May 4\nTime: 7:30 pm \nLocation: University of Regina Theatre\nOn-Sale: Friday\, December 5 at noon \nTickets: $88.93 (Includes taxes and fees) \nBUY TICKETS \nCanada’s #1 stand-up road warrior\, Ron James\, hits the Prairies with his brand-new show. The Noise Between Our Ears is a fast\, funny\, and sharp look at the chaotic world around us. From wild political times to the quirks of aging\, tech overload\, family memories\, and everyday frustrations\, Ron brings his signature wit to it all. \n“gut-busting\, knee-slapping funny” – Ottawa Citizen. \n“thunderous standing ovation” – Saskatoon Star Phoenix.
URL:https://conexusartscentre.ca/event/ron-james-the-noise-between-our-ears/
LOCATION:University of Regina
CATEGORIES:Show in Calendar,Show in Scroller
ATTACH;FMTTYPE=image/jpeg:https://conexusartscentre.ca/wp-content/uploads/2025/11/Ron-James.jpg
END:VEVENT
BEGIN:VEVENT
DTSTART;TZID=America/Regina:20260507T113000
DTEND;TZID=America/Regina:20260507T133000
DTSTAMP:20260420T081945
CREATED:20260313T191857Z
LAST-MODIFIED:20260313T192034Z
UID:10002022-1778153400-1778160600@conexusartscentre.ca
SUMMARY:Mayor's Luncheon For Mental Health
DESCRIPTION:
URL:https://conexusartscentre.ca/event/mayors-luncheon-for-mental-health/
LOCATION:Convention Hall
CATEGORIES:Show in Calendar
ATTACH;FMTTYPE=image/jpeg:https://conexusartscentre.ca/wp-content/uploads/2026/03/Mayors-luncheon-May-2026.jpg
END:VEVENT
BEGIN:VEVENT
DTSTART;TZID=America/Regina:20260509T110000
DTEND;TZID=America/Regina:20260509T230000
DTSTAMP:20260420T081945
CREATED:20260407T150401Z
LAST-MODIFIED:20260409T212146Z
UID:10001910-1778324400-1778367600@conexusartscentre.ca
SUMMARY:SASKCLASSIC
DESCRIPTION:Date: Saturday\, May 9\nTime: 11:00 AM & 6:00 PM \nOn Sale: Tuesday\, April 8 at 12:00 PM \nGeneral Admission: $55.10 (includes taxes and fees)\nBundle Admission for Both Shows: $81.91 (includes taxes and fees)\nChild 2 & Under:  Complimentary but still requires a ticket. Please call our box office at 306-525-9999 to inquire. \nNatural SaskClassic Tickets 11:00 AM \nOpen SaskClassic Tickets 6:00 PM \nBundle Package \nWelcome to the SASKCLASSIC\, Saskatchewan’s premier CPA sanctioned regional bodybuilding competition! \nOpen to athletes of all ages and federations\, this annual event allows amateur competitors the opportunity to compete for a top 3 regional placing\, mandatory to advance to the national level. A top 3 placing at the SASKCLASSIC qualifies athletes to register for the prestigious Toronto Pro Qualifier\, Vancouver Pro/Am Qualifier\, and Canadian Nationals\, in pursuit of the famed IFBB Pro card. \nThe SASKCLASSIC will be held in Regina\, Saskatchewan\, Saturday May 9\, at the Conexus Arts Centre. Tanning\, hair\, makeup and photography will be provided by the industry’s best; Bombshell Productions (tanning\, hair and makeup) and Ali Sohrab Photography. This will be an incredible opportunity for athletes as a debut in pursuit of becoming an IFBB Professional. \nGood luck to all athletes and may the best physiques win!
URL:https://conexusartscentre.ca/event/sask-classics/
LOCATION:Convention Hall
CATEGORIES:Show in Calendar,Show in Scroller
ATTACH;FMTTYPE=image/jpeg:https://conexusartscentre.ca/wp-content/uploads/2026/04/SaskClassic-2026.jpg
END:VEVENT
BEGIN:VEVENT
DTSTART;TZID=America/Regina:20260509T193000
DTEND;TZID=America/Regina:20260509T220000
DTSTAMP:20260420T081945
CREATED:20250716T171415Z
LAST-MODIFIED:20250716T171415Z
UID:10001951-1778355000-1778364000@conexusartscentre.ca
SUMMARY:RSO Classical - Echoes Of A Decade
DESCRIPTION:Date: Saturday\, May 9\, 2026\nTime: 7:30 PM\nDoors Open: 6:30 PM \nStanding Ovation Post Show Reception Presented by Conexus Arts Centre: 9:00 PM \nRegular Tickets: $43.67 – $129.07 (Includes taxes and fees)\n16 & Under: $25.67 (Includes taxes and fees) \nAccessible Seating: Please contact our Box Office for all wheelchair-accessible tickets and any special requests for accessibility accommodations at 306-525-9999. \nBUY TICKETS \nA stirring send-off to our beloved Maestro. The final Classical concert with our Conductor Gordon Gerrard—a momentous occasion marking the close of an extraordinary chapter in our orchestra’s story. \nTo mark the occasion\, we welcome internationally acclaimed violinist and Canadian treasure Timothy Chooi\, joining the RSO for this celebratory performance. \nPROGRAMME\nBARBER – Violin Concerto\nMAHLER – Symphony No. 1 \nARTISTS\nGordon Gerrard\, conductor\nTimothy Chooi\, violin \nCome experience one of Canada’s oldest symphonies right here in the heart of the prairies. Explore the full season on our website: www.reginasymphony.com
URL:https://conexusartscentre.ca/event/rso-classical-echoes-of-a-decade/
LOCATION:Conexus Arts Centre – Capital Auto Theatre\, 200 Lakeshore Drive\, Regina\, Saskatchewan\, S4S 7L3\, Canada
CATEGORIES:Show in Calendar,Show in Scroller
ATTACH;FMTTYPE=image/jpeg:https://conexusartscentre.ca/wp-content/uploads/2025/07/CLASSICAL-4.jpg
END:VEVENT
BEGIN:VEVENT
DTSTART;TZID=America/Regina:20260510T103000
DTEND;TZID=America/Regina:20260510T123000
DTSTAMP:20260420T081945
CREATED:20260409T150017Z
LAST-MODIFIED:20260408T193742Z
UID:10001902-1778409000-1778416200@conexusartscentre.ca
SUMMARY:Mother's Day Brunch
DESCRIPTION:Date: Sunday\, May 10\nTime: 10:30 AM \nLocation: Convention Hall \nTickets on Sale: Thursday\, April 9 at 9:00 am \nRegular Tickets: $54.88 (Includes taxes and fees)\nChildren 10 & Under Tickets: $32.93 (Includes taxes and fees)\nChildren 3 &  Under: Complimentary but still requires a ticket. Contact our box office at 306-525-9999 to inquire. \nBUY TICKETS  \nMenu prepared by Executive Chef Leo and his culinary team!\nChilled service selections\nJuice and Punch Dispensing Station\nInfused Water Station \nRustic Bread Display\nSpring Greens and Berries Salad with Citrus Vinaigrette\nRoasted Mushroom and Sherry Salad\nMediterranean Tri Color Quinoa Salad\nMoroccan Chickpea and Carrot Salad\nGreen Papaya Slaw \nHot Service Selections\nFluffy Scrambled Eggs topped with Chives\, Tomatoes and Cheddar Cheese\nSavoury Hash Browns\nMaple Sausage Links and Smoked Sliced Bacon\nHouse Smoked Salmon topped with Pickled Fennel and Capers\, on a bed of Asparagus and Rice.\nChermoula Roasted Chicken Thighs\nAuthentic Kashmir Vegetarian Selection (Protein)\nRoasted Brussel Sprouts with Balsamic Glaze\nTraditional Eggs Bennedict with Ham topped with Hollandaise \nCarving Station\nHerb Crusted Prime Rib of Beef Served with Chimichurri\, Horseradish Au Jus\, and Mustard Trio \nSweet Inspirations from the Centre’s Bakery\nFresh Fruit Display\nChocolate Dipped Strawberries\nSweet Inspirations from our Pastry Chef
URL:https://conexusartscentre.ca/event/mothers-day-brunch/
LOCATION:Convention Hall
CATEGORIES:Show in Calendar,Show in Scroller
ATTACH;FMTTYPE=image/jpeg:https://conexusartscentre.ca/wp-content/uploads/2025/03/1080x1080_MothersDayBrunch2_260401.jpg
END:VEVENT
BEGIN:VEVENT
DTSTART;TZID=America/Regina:20260526T183000
DTEND;TZID=America/Regina:20260526T220000
DTSTAMP:20260420T081945
CREATED:20250403T151030Z
LAST-MODIFIED:20260416T224450Z
UID:10001911-1779820200-1779832800@conexusartscentre.ca
SUMMARY:Dance Dimensions: Showcase 2026
DESCRIPTION:Date: Tuesday\, May 26\nTime: 6:30 PM \nOn Sale: Monday\, May 11 at noon \nRegular Tickets: $34.60 (Includes taxes and fees)\nBabes in Arms (3 & Under): Free of charge but still require a ticket. Please call our box office at 306-525-9999 to obtain a ticket. \nAccessible Seating: Please contact our Box Office for all wheelchair-accessible tickets and any special requests for accessibility accommodations at 306-525-9999. \nBUY TICKETS
URL:https://conexusartscentre.ca/event/dance-dimensions/
LOCATION:Conexus Arts Centre – Capital Auto Theatre\, 200 Lakeshore Drive\, Regina\, Saskatchewan\, S4S 7L3\, Canada
CATEGORIES:Show in Calendar
ATTACH;FMTTYPE=image/jpeg:https://conexusartscentre.ca/wp-content/uploads/2025/04/Dance-Dimensions.jpg
END:VEVENT
END:VCALENDAR