BEGIN:VCALENDAR
VERSION:2.0
PRODID:-//Conexus Arts Centre - ECPv6.15.20//NONSGML v1.0//EN
CALSCALE:GREGORIAN
METHOD:PUBLISH
X-WR-CALNAME:Conexus Arts Centre
X-ORIGINAL-URL:https://conexusartscentre.ca
X-WR-CALDESC:Events for Conexus Arts Centre
REFRESH-INTERVAL;VALUE=DURATION:PT1H
X-Robots-Tag:noindex
X-PUBLISHED-TTL:PT1H
BEGIN:VTIMEZONE
TZID:America/Regina
BEGIN:STANDARD
TZOFFSETFROM:-0600
TZOFFSETTO:-0600
TZNAME:CST
DTSTART:20250101T000000
END:STANDARD
END:VTIMEZONE
BEGIN:VEVENT
DTSTART;TZID=America/Regina:20260718T170000
DTEND;TZID=America/Regina:20260718T200000
DTSTAMP:20260420T112618
CREATED:20260323T160049Z
LAST-MODIFIED:20260410T175344Z
UID:10002024-1784394000-1784404800@conexusartscentre.ca
SUMMARY:CKRM 100th Anniversary
DESCRIPTION:Date: Saturday\, July 18\nCocktails: 5:00 PM\nDinner: 6:00 PM\nProgram: 8:00 PM Featuring CKRM Icons \nGeneral On-Sale: Wednesday\, March 25 at 12:00 PM \nRegular Tickets: $102.48 (Includes taxes and fees) \nAccessible Seating: Please contact our Box Office for all wheelchair-accessible tickets and any special requests for accessibility accommodations at 306-525-9999. \nBUY TICKETS  \n620 CKRM is celebrating 100 years by honouring 9 icons that helped build The Voice of Saskatchewan.  Willy Cole\, Fred King\, Lorne Harasen\, Jim Smalley and more special guests will be named throughout the spring leading up to the July 18th celebration.  Join us for an evening of great food\, exceptional people and their stories. Also\, be the first to learn what’s in store for the rest of the year. \nEach order placed will be assigned a table based on the number of tickets purchased. If you wish to be seated with another party who has purchased tickets\, please contact the Box Office at 306-525-9999 to adjust your reservation. \nGuests will be seated at tables of 8.  Depending on your purchase\, you may be seated with other guests. \nVIEW MENU 
URL:https://conexusartscentre.ca/event/ckrm-100/
LOCATION:Conexus Arts Centre\, 200 Lakeshore Dr.
CATEGORIES:Show in Calendar,Show in Scroller
ATTACH;FMTTYPE=image/jpeg:https://conexusartscentre.ca/wp-content/uploads/2026/03/100ys-in-1-Night-Square-Now_revisedApril9.jpg
END:VEVENT
BEGIN:VEVENT
DTSTART;TZID=America/Regina:20260731T200000
DTEND;TZID=America/Regina:20260731T230000
DTSTAMP:20260420T112618
CREATED:20260306T140010Z
LAST-MODIFIED:20260311T195727Z
UID:10002013-1785528000-1785538800@conexusartscentre.ca
SUMMARY:Collective Soul
DESCRIPTION:Date: Friday\, July 31\nTime: 8:00 PM \nVenue Pre-Sale: Wednesday\, March 11 at 10:00 AM until Thursday\, March 12 at 10:00 PM\nOn Sale: Friday\, March 13 at 10:00 AM \nRegular Tickets: $69.46 – $112.51 (Includes taxes and fees) \n Collective Soul VIP Signed Merchandise Package: $288.71 (Includes taxes and fees)\n• One (1) Premium Seat\n• One (1) Signed 8 x 10 Band Photo\n• One (1) Collective Soul Merchandise Package Designed Exclusively For VIP Purchasers\nPLEASE NOTE: THIS VIP PACKAGE DOES NOT INCLUDE A MEET & GREET. THERE IS NO ARTIST INVOLVEMENT WITH THIS PACKAGE.\nAll package elements will be rendered invalid if resold. Name changes will be issued at the sole discretion of 237 Global. VIP instructions will be sent via email no later than three days (3) prior to the concert. If you do not receive this email three days (3) prior please email info@237global.com. All packages and contents are non-transferable; no refunds or exchanges; all sales are final. All VIP package items and experiences are subject to change. Please note that the information provided at the time of purchase (e-mail and mailing address) is the same information that will be utilized for individual contact requirements where applicable. 237 Global\, the artist\, tour\, promoter\, ticketing company\, venue or any other affiliated parties are not responsible for outdated or inaccurate information provided by the consumer at the time of purchase. If you have any questions regarding your VIP package elements\, or have not received your package information within three days (3) of the concert date\, please email info@237global.com. \nAccessible Seating: Please contact our Box Office for all wheelchair-accessible tickets and any special requests for accessibility accommodations at 306-525-9999. \nBUY TICKETS  \nHailing from Atlanta\, GA\, Collective Soul celebrated their 30th Anniversary in 2024 with the release of their highly anticipated and critically acclaimed 12th studio album\, HERE TO ETERNITY. It was written and produced by E. Roland and co-produced by Shawn Grove\, and recorded at Elvis Presley’s estate in Palm Springs\, CA. They’re the only other music artist to ever record at the historical landmark. With 11 studio albums—including 1995’s self-titled COLLECTIVE SOUL album\, which went triple Platinum–and 8 #1 hits under their belt\, frontman and chief songwriter Ed Roland is unwaveringly driven in his desire to double down on doing more of what he does best – making music\, sweet music\, both in the studio and onstage. Seeing eye to eye\, and ear to ear\, is part of the secret sauce of why Collective Soul continues to both record and play together at an uncompromised level of high quality. They were one of only five artists to have performed at both Woodstock festivals in ’94 and ’99. With electrifying newer material that accompanies the everlasting Collective Soul classic hits like “Shine\,” “December\,” “The World I Know\,” “Heavy\,” and “Where The River Flows\,” these five fiery rockers are only just getting started with the next phase of their thriving career that has moved millions of records and wow multitudes of fans across the globe.  \nPre-Show Dinner \nCocktails and Dinner: 6:00 PM\nShow: 8:00 PM \nRegular Price: $38.10 (Includes taxes and fees)\nSeniors 65+: $30.49 (Includes taxes and fees)\nChildren 10 and Under: $22.25 (Includes taxes and fees) \nDiscounts available for Seniors for pre-show dinner only.\n*Assigned seating* \nEach order placed will be assigned a table based on the number of tickets purchased in the order. If you wish to be seated with another party who purchased tickets please contact the Box Office at 306-525-9999 to adjust your reservation. \nPLEASE NOTE: Tickets for the dinner must be purchased 2 business days prior to the event. \nYOU MUST PURCHASE A TICKET TO THE SHOW TO BE ELIGIBLE FOR THE DINNER. \nPRE-SHOW DINNER TICKETS \nBuffet Menu:\nA Selection of Dinner Rolls with Butter\nFresh Garden Greens with Assorted Dressings\nPenne Pasta Salad\nNew Potato Salad\nCorn Salad\nChicken Thighs with Mushroom Sauce\nChef’s Vegetable Selection\nPerogies with Sour Cream\nCentre Crafted Cabbage Mounds with Braised Cabbage\nDessert Table with an Assortment of Cakes and Pies\nFresh Brewed Coffee (Regular and Decaffeinated) and Specialty Teas \n 
URL:https://conexusartscentre.ca/event/collective-soul/
LOCATION:Capital Auto Theatre
CATEGORIES:Show in Calendar,Show in Scroller
ATTACH;FMTTYPE=image/jpeg:https://conexusartscentre.ca/wp-content/uploads/2026/03/CollectiveSoul_2026_C_1080x1080_R.jpg
END:VEVENT
END:VCALENDAR