BEGIN:VCALENDAR
VERSION:2.0
PRODID:-//Conexus Arts Centre - ECPv6.15.20//NONSGML v1.0//EN
CALSCALE:GREGORIAN
METHOD:PUBLISH
X-ORIGINAL-URL:https://conexusartscentre.ca
X-WR-CALDESC:Events for Conexus Arts Centre
REFRESH-INTERVAL;VALUE=DURATION:PT1H
X-Robots-Tag:noindex
X-PUBLISHED-TTL:PT1H
BEGIN:VTIMEZONE
TZID:America/Regina
BEGIN:STANDARD
TZOFFSETFROM:-0600
TZOFFSETTO:-0600
TZNAME:CST
DTSTART:20250101T000000
END:STANDARD
END:VTIMEZONE
BEGIN:VEVENT
DTSTART;TZID=America/Regina:20260922T190000
DTEND;TZID=America/Regina:20260922T230000
DTSTAMP:20260420T164507
CREATED:20260407T150014Z
LAST-MODIFIED:20260407T152959Z
UID:10002028-1790103600-1790118000@conexusartscentre.ca
SUMMARY:Lyle Lovett and his Small Large Band
DESCRIPTION:Date: Tuesday\, September 22\nDoors: 6:00 PM\nShow: 7:00 PM \nOpener: The Hello Darlins \nLocation: Capital Auto Theatre at Conexus Arts Centre \nVenue Pre-Sale: Wednesday\, April 8 at 10:00 AM until April 9 at 10:00 PM\nGeneral On-Sale: Friday\, April 10 at 10:00 AM \nRegular Tickets: $86.53 – $152.30 (Includes taxes and fees) \nAccessible Seating: Please contact our Box Office for all wheelchair-accessible tickets and any special requests for accessibility accommodation at 306-525-9999. \nBUY TICKETS  \nA singer\, composer and actor\, Lyle Lovett has broadened the definition of American music in a career that spans 14 albums. Coupled with his gift for storytelling\, the Texas-based musician fuses elements of country\, swing\, jazz\, folk\, gospel and blues in a convention-defying manner that breaks down barriers. \nWhether touring as a ‘Duo’ or with his ‘Acoustic Group’ or his ‘Large Band\,’ Lovett’s live performances show not only the breadth of this Texas legend’s deep talents\, but also the diversity of his influences\, making him one of the most compelling and captivating musicians in popular music. \nSince his self-titled debut in 1986\, Lyle Lovett has evolved into one of music’s most vibrant and iconic performers. Among his many accolades\, besides the four Grammy Awards\, he was given the Americana Music Association’s inaugural Trailblazer Award\, and was named Texas State Musician. \nHis works\, rich and eclectic\, are some of the most beloved of any artist working today. \nPre-Show Dinner \nYOU MUST PURCHASE A TICKET TO THE SHOW TO BE ELIGIBLE FOR PRE-SHOW DINNER. \nCocktails and dinner: 5:00 PM \nRegular Price: $38.10 (Includes taxes and fees)\nSeniors 65+: $30.49 (Includes taxes and fees)\nChildren 10 and Under: $22.25 (Includes taxes and fees) \nDiscounts available for seniors for pre-show dinner only. \n*Assigned seating* Each order placed will be assigned a table based on the number of tickets purchased in the order. If you wish to be seated with another party who purchased tickets\, please contact the Box Office at 306-525-9999 to adjust your reservation. \nPRE-SHOW DINNER TICKETS \nPLEASE NOTE: Tickets for the dinner must be purchased no later than 2 business days prior to the event. \nMenu prepared by Chef Leo and his culinary team! \n\nA Selection of Dinner Rolls with Butter\nFresh Garden Greens with Assorted Dressings\nPenne Pasta Salad\nNew Potato Salad\nCorn Salad\nChicken Thighs with Mushroom Sauce\nChef’s Vegetable Selection\nPerogies with Sour Cream\nCentre Crafted Cabbage Mounds with Braised Cabbage\nDessert Table with an Assortment of Cakes and Pies\nFresh Brewed Coffee (Regular and Decaffeinated) and Specialty Teas\n\nFOR SPECIAL MEAL REQUIREMENTS\, PLEASE CONTACT THE CONEXUS ARTS CENTRE AT 306 565-4500 \nCan’t wait to see you at the Centre!
URL:https://conexusartscentre.ca/event/lyle-lovett-and-his-small-large-band/
LOCATION:Conexus Arts Centre – Capital Auto Theatre\, 200 Lakeshore Drive\, Regina\, Saskatchewan\, S4S 7L3\, Canada
CATEGORIES:Show in Calendar,Show in Scroller
ATTACH;FMTTYPE=image/jpeg:https://conexusartscentre.ca/wp-content/uploads/2026/04/1080x1080_LyleLovett1_Localized_260401.jpg
END:VEVENT
END:VCALENDAR