BEGIN:VCALENDAR
VERSION:2.0
PRODID:-//Conexus Arts Centre - ECPv6.15.20//NONSGML v1.0//EN
CALSCALE:GREGORIAN
METHOD:PUBLISH
X-ORIGINAL-URL:https://conexusartscentre.ca
X-WR-CALDESC:Events for Conexus Arts Centre
REFRESH-INTERVAL;VALUE=DURATION:PT1H
X-Robots-Tag:noindex
X-PUBLISHED-TTL:PT1H
BEGIN:VTIMEZONE
TZID:America/Regina
BEGIN:STANDARD
TZOFFSETFROM:-0600
TZOFFSETTO:-0600
TZNAME:CST
DTSTART:20250101T000000
END:STANDARD
END:VTIMEZONE
BEGIN:VEVENT
DTSTART;TZID=America/Regina:20260526T183000
DTEND;TZID=America/Regina:20260526T220000
DTSTAMP:20260420T082106
CREATED:20250403T151030Z
LAST-MODIFIED:20260416T224450Z
UID:10001911-1779820200-1779832800@conexusartscentre.ca
SUMMARY:Dance Dimensions: Showcase 2026
DESCRIPTION:Date: Tuesday\, May 26\nTime: 6:30 PM \nOn Sale: Monday\, May 11 at noon \nRegular Tickets: $34.60 (Includes taxes and fees)\nBabes in Arms (3 & Under): Free of charge but still require a ticket. Please call our box office at 306-525-9999 to obtain a ticket. \nAccessible Seating: Please contact our Box Office for all wheelchair-accessible tickets and any special requests for accessibility accommodations at 306-525-9999. \nBUY TICKETS
URL:https://conexusartscentre.ca/event/dance-dimensions/
LOCATION:Conexus Arts Centre – Capital Auto Theatre\, 200 Lakeshore Drive\, Regina\, Saskatchewan\, S4S 7L3\, Canada
CATEGORIES:Show in Calendar
ATTACH;FMTTYPE=image/jpeg:https://conexusartscentre.ca/wp-content/uploads/2025/04/Dance-Dimensions.jpg
END:VEVENT
END:VCALENDAR