BEGIN:VCALENDAR
VERSION:2.0
PRODID:-//Conexus Arts Centre - ECPv6.15.20//NONSGML v1.0//EN
CALSCALE:GREGORIAN
METHOD:PUBLISH
X-ORIGINAL-URL:https://conexusartscentre.ca
X-WR-CALDESC:Events for Conexus Arts Centre
REFRESH-INTERVAL;VALUE=DURATION:PT1H
X-Robots-Tag:noindex
X-PUBLISHED-TTL:PT1H
BEGIN:VTIMEZONE
TZID:America/Regina
BEGIN:STANDARD
TZOFFSETFROM:-0600
TZOFFSETTO:-0600
TZNAME:CST
DTSTART:20250101T000000
END:STANDARD
END:VTIMEZONE
BEGIN:VEVENT
DTSTART;VALUE=DATE:20260605
DTEND;VALUE=DATE:20260607
DTSTAMP:20260420T082023
CREATED:20260409T151252Z
LAST-MODIFIED:20260415T201903Z
UID:10001912-1780617600-1780790399@conexusartscentre.ca
SUMMARY:Dance City: Excellence in Dance 2026
DESCRIPTION:Dates:\nExcellence in Dance Show #1 – Friday\, June 5 at 7:00 PM \n\nFoundations Rising Stars Combo and Hip Hop Stars classes\nProgressions Level 1 and 2 Recital and Pre-Competitive Levels 1 and 2 Classes)\nAll Competitive and Pre-Professional classes\nAdult Tap\n\nExcellence in Dance Matinee – Saturday\, June 6 at 1:00 PM \n\nFoundations students in Toddler Tots\, Tiny Tots\, Kinder Stars\, and Hip Hop Tots\nSpecial Performances from dancers in Competitive\, Pre-Professional\, and Teacher Mentorship programs\n\nExcellence in Dance Show #2 – Saturday\, June 6 at 7:00 PM \n\nFoundations Rising Stars Combo and Hip Hop Stars classes\nProgressions Level 3 and 4 Recital and Pre-Competitive Levels 3 and 4 classes\nAll Competitive and Pre-Professional classes\nAdult Tap\n\nTicket info:\nOn Sale: Wednesday\, April 15 at 12:00 PM \nRegular Tickets Evening: $28.63 – $41.03\nRegular Tickets Matinee: $25.03 – $33.02\nBundle – Friday Evening and Saturday Matinee – $44.29 – $63.89\nBundle –  Saturday Matinee and Saturday Evening – $44.29- $63.89\nBabes in Arms (3 and Under): Complementary but must have a ticket. Please contact the box office at 306 525 9999 to inquire. \nAccessible Seating: Please contact our Box Office for all wheelchair-accessible tickets and any special requests for accessibility accommodations at 306-525-9999. \nPackage info:\n\nAvailable packages: Friday night performance & Saturday matinee performance\, or Saturday night performance & Saturday matinee performance.\nPatrons will select seats once for the package price\, and the seat(s) they choose will be the same for both performances. For example\, when purchasing a package\, if you choose Row A\, seat 1 – that is where you are sitting for both the matinee and night performance.\nPatrons will receive one ticket per seat per package. So if you have a package for the Saturday matinee and Saturday evening shows – you will scan your ticket once at the matinee and again at the evening. Please keep your ticket for both performances.\nWhen you pull up the map to select your seat\, it will only show seats that are available for both performances in the package. So a customer just purchasing tickets for one show will potentially have more seats available to them.\nIf you are purchasing a combination of package seats and regular (single performance) seats\, you may not be able to get all your seats together\, because the links to access package seats and regular seats are different.\n\n  \nRegular Tickets – June 5 Evening \nRegular Tickets – June 6 Matinee \nRegular Tickets – June 6 Evening \nBundle Tickets – Friday Evening and Saturday Matinee \nBundle Tickets –  Saturday Matinee and Saturday Evening
URL:https://conexusartscentre.ca/event/dance-city-excellence-in-dance-2026/
LOCATION:Conexus Arts Centre – Capital Auto Theatre\, 200 Lakeshore Drive\, Regina\, Saskatchewan\, S4S 7L3\, Canada
CATEGORIES:Show in Calendar,Show in Scroller
ATTACH;FMTTYPE=image/png:https://conexusartscentre.ca/wp-content/uploads/2025/04/White-background-logo-1.png
END:VEVENT
END:VCALENDAR