BEGIN:VCALENDAR
VERSION:2.0
PRODID:-//Conexus Arts Centre - ECPv6.15.20//NONSGML v1.0//EN
CALSCALE:GREGORIAN
METHOD:PUBLISH
X-WR-CALNAME:Conexus Arts Centre
X-ORIGINAL-URL:https://conexusartscentre.ca
X-WR-CALDESC:Events for Conexus Arts Centre
REFRESH-INTERVAL;VALUE=DURATION:PT1H
X-Robots-Tag:noindex
X-PUBLISHED-TTL:PT1H
BEGIN:VTIMEZONE
TZID:UTC
BEGIN:STANDARD
TZOFFSETFROM:+0000
TZOFFSETTO:+0000
TZNAME:UTC
DTSTART:20250101T000000
END:STANDARD
END:VTIMEZONE
BEGIN:VEVENT
DTSTART;TZID=UTC:20260821T150000
DTEND;TZID=UTC:20260822T235900
DTSTAMP:20260420T151056
CREATED:20240801T225447Z
LAST-MODIFIED:20260331T222659Z
UID:10001329-1787324400-1787443140@conexusartscentre.ca
SUMMARY:SHAKE THE LAKE REGINA - PRESENTED BY BRANDT
DESCRIPTION:SHAKE THE LAKE REGINA\nDate: Friday\, August 21 to Saturday\, August 22\, 2026\nGates open: 3:00 PM daily\nLocation: Outdoor Stage \nOn sale: Friday\, February 20\, at 10:00 AM \nGeneral Admission Weekend Passes:\nEarly Bird Weekend: $156.95 (Including taxes and fees)\nRegular Weekend: $ 191.03 (Including taxes and fees)\nWeek-of Price: $211.63 (Including taxes and fees) \nPremium Reserved Seating:\n$329.17 (Including taxes and fees) \nAdd-on Rockstar Parking: $25.75 (Including taxes and fees) \nDaily Passes:\nWill be on sale at a future date – to be determined (subject to availability) \nSHAKE THE LAKE INFO. \n\n\n\n\nSHAKE THE LAKE 2026 LINEUP: \nFriday\, August 21\nBARNEY BENTALL & THE LEGENDARY HEARTS\nHONEYMOON SUITE\nSUGAR RAY \nSaturday\, August 22\nWIDE MOUTH MASON\nHEADPINS\n54∙40\nSMASH MOUTH \n  \nFestival Info: \n\n​Festival runs rain or shine – tickets are non-refundable.\nWeekend wristband is non-transferable. Tickets will be exchanged for wristbands upon arrival. Wristbands are non-transferable. Patrons will not be allowed to re-enter if wristbands have been removed.\n​Professional cameras and recording devices are not allowed.\nThe festival venue is a non-smoking venue\, except in the assigned designated smoking area.\nNo outside food & beverage allowed\, onsite concessions and bars are available. 1 litre of sealed\, bottled water per patron is permitted.\nNo public nudity or lewd conduct will be tolerated\, if in violation\, you will be removed from the festival site.\nATM is located within the front entrance of Conexus Arts Centre.\nNo pets allowed except for service animals.\nLawn chairs are allowed\, bring your own seating as seating is not provided or available for rent with the exception of Premium Reserved Weekend ticket holders.\nNo weapons and fireworks allowed.\nGang colours are not permitted on festival grounds​.\nShake the Lake reserves the right to refuse entry to anyone at our discretion.\nAll patrons are subject to being searched as a condition of entry.\nLost tickets are the responsibility of the patron and will not be replaced or refunded. This includes tickets that are damaged\, stolen\, or misplaced.\nParking will be limited for event. Please plan ahead to ensure you get here and get home safe – car pool\, have a designated driver\, take a taxi\, or use public transportation. ​\nBackpacks\, large purses\, and lawn chairs will be searched.\n\n  \n 
URL:https://conexusartscentre.ca/event/shake-the-lake/
LOCATION:Conexus Arts Centre\, 200 Lakeshore Dr.
CATEGORIES:Show in Calendar,Show in Scroller
ATTACH;FMTTYPE=image/jpeg:https://conexusartscentre.ca/wp-content/uploads/2026/02/13-1012_Shake-the-Lake-Refresh_Assets_Eblast_SugSmash_1080x1080_FA-scaled.jpg
END:VEVENT
END:VCALENDAR