BEGIN:VCALENDAR
VERSION:2.0
PRODID:-//Conexus Arts Centre - ECPv6.15.20//NONSGML v1.0//EN
CALSCALE:GREGORIAN
METHOD:PUBLISH
X-WR-CALNAME:Conexus Arts Centre
X-ORIGINAL-URL:https://conexusartscentre.ca
X-WR-CALDESC:Events for Conexus Arts Centre
REFRESH-INTERVAL;VALUE=DURATION:PT1H
X-Robots-Tag:noindex
X-PUBLISHED-TTL:PT1H
BEGIN:VTIMEZONE
TZID:America/Regina
BEGIN:STANDARD
TZOFFSETFROM:-0600
TZOFFSETTO:-0600
TZNAME:CST
DTSTART:20250101T000000
END:STANDARD
END:VTIMEZONE
BEGIN:VEVENT
DTSTART;TZID=America/Regina:20261023T193000
DTEND;TZID=America/Regina:20261023T213000
DTSTAMP:20260424T081434
CREATED:20260108T170119Z
LAST-MODIFIED:20260126T193212Z
UID:10002006-1792783800-1792791000@conexusartscentre.ca
SUMMARY:TIME WARP PROMOTIONS PRESENTS: HELLS BELLS - Celebrating the Music of AC/DC
DESCRIPTION:Date: Friday\, October 23\nTime: 7:30 PM \nVenue Pre-Sale: January 13 at 12:00 PM until January 15 at 11:59 PM\nEarly Bird On-Sale: January 16 at Noon until March 20 at 11:59 PM\nGeneral On-Sale: March 21 at Midnight \nRegular Tickets: $56.69 (Includes taxes and fees) \nAccessible Seating: Please contact our Box Office for all wheelchair-accessible tickets and any special requests for accessibility accommodations at 306-525-9999. \nBUY TICKETS  \nTIME WARP PROMOTIONS PRESENTS: \nHELLS BELLS \nSince their electrifying inception in 1994 in the heart of Toronto\, Hells Bells has soared to become the World’s Longest Touring Tribute to the legendary AC/DC\, lighting up stages across Canada\, United States\, Mexico and as far as Dubai \, United Emirates. \nDon’t miss your chance to experience the sound\, look and attitude\, from the wall of Marshall Amps\, the Thundering Cannons\, the Giant Bell\, and the signature schoolboy outﬁt. \nJoin us to celebrate the spirit of AC/DC. \nWhere the music is contagious\, and the memories are unforgettable. \nAll Ages! Family friendly! \nGet ready to rock like never before! \n \n  \nhttps://www.hellsbellscanada.com/ \nPre-Show Dinner \nCocktails and Dinner: 5:30 PM\nShow: 7:30 PM \nRegular Price $38.10 (Includes taxes and fees)Seniors 65+: $30.49 (Includes taxes and fees)\nChildren 10 and Under: $22.25 (Includes taxes and fees) \nDiscounts available for Seniors for pre-show dinner only. *Assigned seating*\nEach order placed will be assigned a table based on the number of tickets purchased in the order. If you wish to be seated with another party who purchased tickets please contact the Box Office at 306-525-9999 to adjust your reservation.\nPlease Note: Tickets for the dinner must be purchased 2 business days prior to the event.\nYOU MUST PURCHASE A TICKET TO THE SHOW TO BE ELIGIBLE FOR THE DINNER.FOR SPECIAL MEAL REQUIREMENTS\, PLEASE CONTACT THE CONEXUS ARTS CENTRE AT 306 565-4500 \nBUY PRE-SHOW DINNER TICKETS \nBuffet Menu:\nA Selection of Dinner Rolls with Butter\nFresh Garden Greens with Assorted Dressings\nPenne Pasta Salad\nNew Potato Salad\nCorn Salad\nChicken Thighs with Mushroom Sauce\nChef’s Vegetable Selection\nPerogies with Sour Cream\nCentre Crafted Cabbage Mounds with Braised Cabbage\nDessert Table with an Assortment of Cakes and Pies\nFresh Brewed Coffee (Regular and Decaffeinated) and Specialty Teas
URL:https://conexusartscentre.ca/event/hells-bells/
LOCATION:Conexus Arts Centre – Capital Auto Theatre\, 200 Lakeshore Drive\, Regina\, Saskatchewan\, S4S 7L3\, Canada
CATEGORIES:Show in Calendar,Show in Scroller
ATTACH;FMTTYPE=image/jpeg:https://conexusartscentre.ca/wp-content/uploads/2026/01/HELLS-BELLS-1080-X-1080.jpg
END:VEVENT
END:VCALENDAR