BEGIN:VCALENDAR
VERSION:2.0
PRODID:-//Conexus Arts Centre - ECPv6.15.20//NONSGML v1.0//EN
CALSCALE:GREGORIAN
METHOD:PUBLISH
X-WR-CALNAME:Conexus Arts Centre
X-ORIGINAL-URL:https://conexusartscentre.ca
X-WR-CALDESC:Events for Conexus Arts Centre
REFRESH-INTERVAL;VALUE=DURATION:PT1H
X-Robots-Tag:noindex
X-PUBLISHED-TTL:PT1H
BEGIN:VTIMEZONE
TZID:America/Regina
BEGIN:STANDARD
TZOFFSETFROM:-0600
TZOFFSETTO:-0600
TZNAME:CST
DTSTART:20250101T000000
END:STANDARD
END:VTIMEZONE
BEGIN:VEVENT
DTSTART;TZID=America/Regina:20261113T190000
DTEND;TZID=America/Regina:20261113T220000
DTSTAMP:20260424T101431
CREATED:20251125T200821Z
LAST-MODIFIED:20251216T161310Z
UID:10001995-1794596400-1794607200@conexusartscentre.ca
SUMMARY:Jimmy Carr: Laughs Funny
DESCRIPTION:Date: Friday\, November 13\, 2026\nTime: 7:00 PM & 9:30 PM \n7:00 PM Show\nVenue Pre-Sale: Thursday\, December 4 at 10:00 AM until 11:59 PM\nOn-Sale: Friday\, December 5 at 10:00 AM\nRegular Tickets: $61.09 – $94.91 (Includes fees and taxes)\nPlatinum Tickets: $148.53 (Includes fees and taxes) \n7:00 PM  BUY TICKETS  \n9:30 PM Show\nOn-Sale: Thursday\, December 18 at 10:00 AM\nRegular Tickets: $61.09 – $94.91 (Includes fees and taxes)\nPlatinum Tickets: $148.53 (Includes fees and taxes) \n9:30 PM BUY TICKETS  \nAccessible Seating: Please contact our Box Office for all wheelchair-accessible tickets and any special requests for accessibility accommodations at 306-525-9999. \nOutback Presents and Chambers Touring are proud to announce that global comedy superstar Jimmy Carr is returning to Canada with his biggest national tour ever. The brand-new show\, Jimmy Carr: Laughs Funny\, will hit an unprecedented 31 cities across the country\, a first for an international comedian. The tour will play coast to coast\, kicking off in Victoria on September 16\, 2026 and wrapping up in St. John’s on November 22\, 2026.\nThis tour will see Jimmy returning to Regina for a performance at the Conexus Arts Centre on November 13\, 2026. Tickets go on-sale Friday\, December 5 at 10 AM at jimmycarr.com. \nKnown worldwide for his lightning-quick wit\, dark one-liners and unmistakable laugh\, Jimmy Carr remains one of the most successful and best-selling comedians on the planet. A master of razor-sharp humour\, he has toured to over 40 countries\, sold millions of tickets\, and continues to be one of the most streamed stand-ups of the last decade. His most recent tour\, Terribly Funny 2.0\, surpassed one million tickets worldwide and saw him perform 293 shows across 145 cities in a single year—cementing his reputation as one of the hardest-working acts in comedy. \nFollowing his sold-out 2023 tour\, Jimmy Carr returns to Canada with his fifth and most ambitious Canadian tour yet\, Jimmy Carr: Laughs Funny. Alongside time-honoured cities such as Toronto\, Vancouver\, Montréal\, Calgary\, Ottawa\, Halifax and Winnipeg\, this tour will bring Jimmy to new markets he has never performed in before\, expanding his Canadian footprint further than ever. \nDon’t miss Jimmy Carr coming to a city near you in Fall 2026.
URL:https://conexusartscentre.ca/event/jimmy-carr-laughs-funny/
LOCATION:Conexus Arts Centre\, 200 Lakeshore Dr.
CATEGORIES:Show in Calendar,Show in Scroller
ATTACH;FMTTYPE=image/jpeg:https://conexusartscentre.ca/wp-content/uploads/2025/11/JimmyCarr_Regina_Standard_Social_1080x1080-scaled.jpg
END:VEVENT
END:VCALENDAR