BEGIN:VCALENDAR
VERSION:2.0
PRODID:-//Conexus Arts Centre - ECPv6.15.20//NONSGML v1.0//EN
CALSCALE:GREGORIAN
METHOD:PUBLISH
X-ORIGINAL-URL:https://conexusartscentre.ca
X-WR-CALDESC:Events for Conexus Arts Centre
REFRESH-INTERVAL;VALUE=DURATION:PT1H
X-Robots-Tag:noindex
X-PUBLISHED-TTL:PT1H
BEGIN:VTIMEZONE
TZID:America/Regina
BEGIN:STANDARD
TZOFFSETFROM:-0600
TZOFFSETTO:-0600
TZNAME:CST
DTSTART:20240101T000000
END:STANDARD
END:VTIMEZONE
BEGIN:VEVENT
DTSTART;TZID=America/Regina:20250907T193000
DTEND;TZID=America/Regina:20250907T223000
DTSTAMP:20260423T065143
CREATED:20250616T155417Z
LAST-MODIFIED:20250625T213737Z
UID:10001941-1757273400-1757284200@conexusartscentre.ca
SUMMARY:These Eyes - A Tribute To The Guess Who And Green River Revival - A Tribute to CCR
DESCRIPTION:Date: Sunday\, September 7\nTime: 7:30 PM \nVenue Pre-Sale: Thursday\, June 19 at noon until 11:59 PM\nOn-Sale: Friday\, June 20 at noon. \nRegular Tickets: $58.10 – $91.91  (Includes taxes and fees) \nAccessible Seating: Please contact our Box Office for all wheelchair-accessible tickets and any special requests for accessibility accommodations at 306-525-9999. \nBUY TICKETS \nOn Sept 7\, The GUESS WHO Tribute Show THESE EYES is coming to Regina for the first time!! This band sounds so much like the real thing that you will believe you are listening to Burton Cummings! They will be sharing the stage with Canada’s premiere CCR tribute GREEN RIVER REVIVAL performing the greatest hits of CREEDENCE CLEARWATER REVIVAL. This will be an amazing night with 2 awesome bands taking you back to the nostalgic era of Rock !! \nPre-Show Dinner \nCocktails and Dinner: 5:30 PM\nShow:  7:30 PM \nRegular Price $38.10 (Includes taxes and fees)Seniors 65+: $30.49 (Includes taxes and fees)\nChildren 10 and Under: $22.25 (Includes taxes and fees) \nDiscounts available for Seniors for pre-show dinner only. *Assigned seating*\nEach order placed will be assigned a table based on the number of tickets purchased in the order. If you wish to be seated with another party who purchased tickets please contact the Box Office at 306-525-9999 to adjust your reservation.\nPlease Note: Tickets for the dinner must be purchased 2 business days prior to the event. \nYOU MUST PURCHASE A TICKET TO THE SHOW TO BE ELIGIBLE FOR THE DINNER.FOR SPECIAL MEAL REQUIREMENTS\, PLEASE CONTACT THE CONEXUS ARTS CENTRE AT 306 565-4500 \nPRE-SHOW DINNER TICKETS \nBuffet Menu \nA Selection of Dinner Rolls with Butter\nFresh Garden Greens with Assorted Dressings\nBroccoli Slaw\nCountry Potato & Dill\nFresh Vegetable Crudités with Herb Dip\nRelish & Pickle Platter\nSaskatchewan Braised Beef\nChipotle Pesto Roast Chicken\nRed Skinned Garlic Smashed Potatoes\nSeasonal Vegetable\nDessert Table with an Assortment of Cakes and Pies\nFresh Brewed Coffee (Regular & Decaffeinated) & Specialty Teas
URL:https://conexusartscentre.ca/event/guess-who-and-ccr-tribute-concert/
LOCATION:Conexus Arts Centre – Capital Auto Theatre\, 200 Lakeshore Drive\, Regina\, Saskatchewan\, S4S 7L3\, Canada
CATEGORIES:Show in Calendar,Show in Scroller
ATTACH;FMTTYPE=image/jpeg:https://conexusartscentre.ca/wp-content/uploads/2025/06/1080-x-1080.jpg
END:VEVENT
BEGIN:VEVENT
DTSTART;TZID=America/Regina:20250912T100000
DTEND;TZID=America/Regina:20250912T140000
DTSTAMP:20260423T065143
CREATED:20250724T210733Z
LAST-MODIFIED:20250814T144935Z
UID:10001958-1757671200-1757685600@conexusartscentre.ca
SUMMARY:The Okimaw Awards
DESCRIPTION:Date: Friday\, September 12\nTime: 10:00 AM – 2:00 PM\nLocation: Shumiatcher Room\nRegular Tickets: $37.00 (Includes taxes and fees) \n\n\nBUY TICKETS  \nThe Okimaw Awards celebrate and honour the achievements of Indigenous men across Saskatchewan who are making a lasting impact in their communities. \nHeld annually\, the awards recognize leaders\, creators\, protectors\, and mentors—those who inspire others through their work and dedication in a wide range of fields\, including: \nCommunity\nMusic & Art\nPolitics\nLaw Enforcement & Justice\nAcademics\nLanguage & Culture\nService & Public Safety\nHealth & Medicine\nYouth Mentorship …and more. \nThrough this recognition\, the Okimaw Awards aim to uplift Indigenous voices and share the powerful stories of those helping to shape a stronger future.
URL:https://conexusartscentre.ca/event/the-okimaw-awards/
LOCATION:Jacqui Shumiatcher
CATEGORIES:Show in Calendar
ATTACH;FMTTYPE=image/jpeg:https://conexusartscentre.ca/wp-content/uploads/2025/07/Okimaw-SK-Poster-1080-x-1080.jpg
END:VEVENT
BEGIN:VEVENT
DTSTART;TZID=America/Regina:20250912T190000
DTEND;TZID=America/Regina:20250912T213000
DTSTAMP:20260423T065143
CREATED:20250530T141555Z
LAST-MODIFIED:20250603T145426Z
UID:10001937-1757703600-1757712600@conexusartscentre.ca
SUMMARY:Rick Mercer's Stand-Up For Canada Comedy Tour
DESCRIPTION:Date: Friday\, September 12\nTime: 7:00 PM \nAMEX Pre-Sale: Tuesday\, June 3 at 9:00 AM until Thursday\, June 5 at 11:59 PM\nVenue Pre-Sale: Wednesday\, June 4 at 10:00 AM until Thursday\, June 5 at 11:59 PM\nOn Sale: Friday\, June 6 at 10:00 AM \n*This show has an age restriction. Must be at least 16 years of age to attend.* \nRegular Tickets: $65.92 – $99.73 (Includes taxes and fees) \nAccessible Seating: Please contact our Box Office for all wheelchair-accessible tickets and any special requests for accessibility accommodations at 306-525-9999. \nBUY TICKETS \nMRG Live and Bruce Hills Entertainment are proud to present  \nRick Mercer’s Stand-Up for Canada Comedy Tour — a night of laughter\, connection\, and unapologetically Canadian comedy. \nThis fall\, iconic comedian Rick Mercer leads a coast-to-coast tour spotlighting homegrown talent and delivering a night of laughter\, and national pride. \nKicking off September 11 in Saskatoon\, SK and wrapping October 19 in St. John’s\, NL\, the tour will stop in 21 cities nationwide\, bringing together audiences for an unforgettable night of comedy. Joining Mercer on stage are three of Canada’s fastest-rising comedy stars: Juno Award winner Sophie Buddle\, Juno-nominated Mayce Galoni\, and the brilliantly talented Julie Kim. \nAt a time when the country needs it most\, Mercer is ready to bring Canadians together with his signature wit\, political commentary\, and unifying voice — making this tour a must-see celebration of Canadian comedy and culture.
URL:https://conexusartscentre.ca/event/rick-mercer/
LOCATION:Conexus Arts Centre – Capital Auto Theatre\, 200 Lakeshore Drive\, Regina\, Saskatchewan\, S4S 7L3\, Canada
CATEGORIES:Show in Calendar,Show in Scroller
ATTACH;FMTTYPE=image/jpeg:https://conexusartscentre.ca/wp-content/uploads/2025/05/IG-SQUARE.jpg
END:VEVENT
BEGIN:VEVENT
DTSTART;TZID=America/Regina:20250920T193000
DTEND;TZID=America/Regina:20250920T223000
DTSTAMP:20260423T065143
CREATED:20250716T162752Z
LAST-MODIFIED:20250716T170044Z
UID:10001948-1758396600-1758407400@conexusartscentre.ca
SUMMARY:Classical RSO - Hometown & Hollywood
DESCRIPTION:Date: September 20\, 2025\nTime: 7:30 PM\nDoors Open: 6:30 PM \nStanding Ovation Post Show Reception Presented by Conexus Arts Centre: 9:00 PM \nRegular Tickets: $43.67 – $129.07 (Includes taxes and fees)\n16 & Under: $25.67 (Includes taxes and fees) \nBUY TICKETS \nAccessible Seating: Please contact our Box Office for all wheelchair-accessible tickets and any special requests for accessibility accommodations at 306-525-9999. \nA spectacular season opener celebrating a hometown hero and a Hollywood icon! Experience the dazzling energy of Karen Donnelly\, Regina’s own trumpet sensation\, as she returns home to perform the thrilling Trumpet Concerto by John Williams—one of the most legendary names in film and concert music. \nThe evening begins with Northern Star by Canadian composer Dorothy Chang\, a bold and modern piece full of color and momentum. Then\, brace yourself for the emotional and powerful journey of Dvořák’s Symphony No. 7\, a stirring finale to an unforgettable night. \nPROGRAMME\nCHANG – Northern Star\nWILLIAMS – Trumpet Concerto\nDVOŘÁK – Symphony No. 7 \nARTISTS\nGordon Gerrard\, conductor\nKaren Donnelly\, trumpet \nCome experience one of Canada’s oldest symphonies right here in the heart of the prairies. Explore the full season on our website: www.reginasymphony.com
URL:https://conexusartscentre.ca/event/classical-rso-hometown-hollywood/
LOCATION:Conexus Arts Centre – Capital Auto Theatre\, 200 Lakeshore Drive\, Regina\, Saskatchewan\, S4S 7L3\, Canada
CATEGORIES:Show in Calendar,Show in Scroller
ATTACH;FMTTYPE=image/jpeg:https://conexusartscentre.ca/wp-content/uploads/2025/07/CLASSICAL-1.jpg
END:VEVENT
BEGIN:VEVENT
DTSTART;TZID=America/Regina:20250921T190000
DTEND;TZID=America/Regina:20250921T223000
DTSTAMP:20260423T065143
CREATED:20250318T170039Z
LAST-MODIFIED:20250825T203005Z
UID:10001894-1758481200-1758493800@conexusartscentre.ca
SUMMARY:Steve-O - The Crash and Burn Western Canada Tour
DESCRIPTION:Date: Sunday\, September 21\nTime: 7:00 PM\nDoors Open: 6:00 PM \nPre-Sale: Thursday\, March 20 at 10:00 AM – Friday\, March 21 at 9:59 AM\nOn-Sale: Friday\, March 21 at 10:00 AM \nMust be minimum 19 years of age to attend. \nRegular Tickets: $58.10 – $79.76 (Includes taxes and fees)\nVIP Tickets – Front 2 Centre Rows: $171.28 (Includes taxes and fees) – SOLD OUT \nVIP Includes: \n\nPremium seat in front 2 rows\nMeet & greet and photo with Steve-O\n\nAccessible seating: Please contact our Box Office for all wheelchair-accessible tickets and any special requests for accessibility accommodations. \nPlease note: This event features general admission within designated seating areas. While there is no assigned seating\, your ticket grants you access to a specific row or section. Upon arrival\, our ushers will guide you to your designated seating area. You are free to choose any available seat within that area on a first-come\, first-served basis. \nIf you have any questions\, feel free to ask one of our friendly ushers upon entry. \nBUY TICKETS \nJackass Superstar STEVE-O Live In Regina SK September 21 @ Conexus Arts Centre (Convention Hall) On His Brand New Multimedia Comedy Tour “Crash And Burn! \nI’ve made a lot of bad decisions\, and few were worse than the ones I made for my new “Crash And Burn” tour. What’s so fun about this new multimedia show is that you don’t just hear the ridiculous stories of my latest\, dumbest\, unbelievably naughty exploits… you see them happen for yourself… completely uncensored!
URL:https://conexusartscentre.ca/event/steve-o/
LOCATION:Convention Hall
CATEGORIES:Show in Calendar,Show in Scroller
ATTACH;FMTTYPE=image/jpeg:https://conexusartscentre.ca/wp-content/uploads/2025/02/TDMA-SteveOCrashBurn-0921_25-1080x1080-1.jpg
END:VEVENT
BEGIN:VEVENT
DTSTART;TZID=America/Regina:20250924T193000
DTEND;TZID=America/Regina:20250924T193000
DTSTAMP:20260423T065143
CREATED:20250513T200910Z
LAST-MODIFIED:20250922T205953Z
UID:10001922-1758742200-1758742200@conexusartscentre.ca
SUMMARY:Leonard Cohen and Joni Mitchell- The Untold Love Story
DESCRIPTION:Date: Wednesday\, September 24\nTime: 7:30 PM \nVenue Pre-Sale: Wednesday\, May 21 at noon until Thursday\, May 22 at 11:59 PM\nOn Sale: Friday\, May 23 at noon \nRegular Tickets: $47.77 – $80.79 (Includes taxes and fees) \nAccessible Seating: Please contact our Box Office for all wheelchair-accessible tickets and any special requests for accessibility accommodations at 306-525-9999. \nBUY TICKETS \nLeonard Cohen and Joni Mitchell: The Untold Love Story immerses audiences in the passionate but brief romance the iconic duo shared that shaped their songs\, their lives and music history. It was 1967 at the Newport Folk Festival when the pair began an intense love affair that lasted only a few months but resulted in the inspiration for some of the most celebrated songs ever written. Leonard Cohen and Joni Mitchell: The Untold Love Story\, will explore what happened during their time living together in California at the height of folk music’s popularity\, falling in and out of love\, and then moving on to become the most influential songwriters and storytellers of all time. The multi-media production will recount their mutual influence on each other’s works through stories and songs including the chart toppers “Hallelujah”\, “Both Sides Now”\, “Big Yellow Taxi” and “I’m Your Man” and many more. It’s a look at a romantic and creative relationship never before explored on stage. \nThe show features singer\, songwriter\, musician\, and actress Dana Wylie who the renowned folk music magazine Penguin Eggs called the only artist whom they have “felt comfortable comparing to Joni Mitchell in the scope of her talent EVER” and singer\, songwriter and poet Joe Nolan who was named by The Globe and Mail as “an Americana wunderkind to look out for.” The artists\, who have won numerous awards\, are inspired\, influenced\, and uplifted by Leonard and Joni and bring their love and passion for the icons to each performance. \nLeonard Cohen and Joni Mitchell: The Untold Love Story is produced by GNR Entertainment\, the company behind the critically acclaimed musical portraits  “The Story Of Linda Ronstadt”\, “Folsom Prison Revisited” and “Golden Ring: The Story of George Jones and Tammy Wynette\, which consistently  play to enthusiastic and sold-out audiences. \n \nPre-Show Dinner \nCocktails and Dinner: 5:30 PM\nShow:  7:30 PM \nRegular Price $38.10 (Includes taxes and fees)Seniors 65+: $30.49 (Includes taxes and fees)\nChildren 10 and Under: $22.25 (Includes taxes and fees) \nDiscounts available for Seniors for pre-show dinner only. *Assigned seating*\nEach order placed will be assigned a table based on the number of tickets purchased in the order. If you wish to be seated with another party who purchased tickets please contact the Box Office at 306-525-9999 to adjust your reservation.\nPLEASE NOTE: Tickets for the dinner must be purchased 2 business days prior to the event.\nYOU MUST PURCHASE A TICKET TO THE SHOW TO BE ELIGIBLE FOR THE DINNER.FOR SPECIAL MEAL REQUIREMENTS\, PLEASE CONTACT THE CONEXUS ARTS CENTRE AT 306 565-4500 \nPRE-SHOW DINNER TICKETS \nBuffet Menu\nFresh Breads and Rolls with Butter\nChef’s Selection of Salads with Dressings\nFresh Vegetable Platter with Dip\nPan-Seared Chicken Breast with Herbs\, Garlic\, and White Wine\nMaple Glazed Salmon with Toasted Sesame and Green Onions.\nRice Blend\nChef’s Selection of Fresh Vegetables\nDessert Buffet with Assorted Cakes and Pies\nFresh Fruits\, Home Baked Pastries\nFresh Brewed Coffee (Regular & Decaffeinated) & Specialty Teas \n 
URL:https://conexusartscentre.ca/event/leonard-joni/
LOCATION:Conexus Arts Centre – Capital Auto Theatre\, 200 Lakeshore Drive\, Regina\, Saskatchewan\, S4S 7L3\, Canada
CATEGORIES:Show in Calendar,Show in Scroller
ATTACH;FMTTYPE=image/jpeg:https://conexusartscentre.ca/wp-content/uploads/2025/05/Leonard-Joni-social-1080x1080_SSL.jpg
END:VEVENT
BEGIN:VEVENT
DTSTART;TZID=America/Regina:20250926T193000
DTEND;TZID=America/Regina:20250926T213000
DTSTAMP:20260423T065143
CREATED:20250620T174915Z
LAST-MODIFIED:20250630T154716Z
UID:10001945-1758915000-1758922200@conexusartscentre.ca
SUMMARY:Music of The Night: The Concert Tour
DESCRIPTION:Date: Friday\, September 26\nTime: 7:30 PM \nPre-Sale: Wednesday\, July 2 at noon until 11:59 PM\nOn-Sale: Thursday\, July 3 at noon. \nRegular Tickets: $40.00 – $80.00 (Includes taxes and fees)\nGroups of 10+: $36.91 – $73.28 (Includes taxes and fees) \nAccessible Seating: Please contact our Box Office for all wheelchair-accessible tickets and any special requests for accessibility accommodations at 306-525-9999. \nBUY TICKETS \nMusic of the Night: The Concert Tour\nA Concert Celebration of Andrew Lloyd Webber’s Greatest Hits \nThis concert celebration of Andrew Lloyd Webber returns to Regina (last here in Fall ’23) after having toured across Canada to sold out audiences from Victoria to Montreal! With a live band and many new incredible and celebrated singers\, we welcome you to experience this concert of Andrew Lloyd Webber’s most iconic theatrical music – including selections from Phantom of the Opera\, Evita\, Cats\, Jesus Christ Superstar\, Sunset Blvd\, and more! \nReviews \n“What an amazing show!!! Wonderful mix of songs represented!  Just amazing!!!  Get your tickets now!!!  Should not miss this amazing show!” Melanie Ngai\, Vancouver\, BC \n“This was very entertaining\, the cast had unbelievable voices\, and what a wonderful way to spend a Sunday afternoon” Angela Carter\, Barrie\, ON \n“This very professional and capable cast – made up of seasoned singers … never ceased to amaze us with a string of hits that made famous the brilliant Andrew Lloyd Webber.  The artists are versatile\, play very well and have voices to spare… They all impressed me. It’s a very solid cast.”  Review:  atuvu.ca (Montreal) \nPre-Show Dinner \nCocktails and Dinner: 5:30 PM\nShow: 7:30 PM \nRegular Price: $38.10 (Includes taxes and fees)Seniors 65+: $30.49 (Includes taxes and fees)\nChildren 10 and Under: $22.25 (Includes taxes and fees) \nDiscounts available for Seniors for pre-show dinner only. *Assigned seating*\nEach order placed will be assigned a table based on the number of tickets purchased in the order. If you wish to be seated with another party who purchased tickets please contact the Box Office at 306-525-9999 to adjust your reservation.\nPlease Note: Tickets for the dinner must be purchased 2 business days prior to the event.\nYOU MUST PURCHASE A TICKET TO THE SHOW TO BE ELIGIBLE FOR THE DINNER.FOR SPECIAL MEAL REQUIREMENTS\, PLEASE CONTACT THE CONEXUS ARTS CENTRE AT 306 565-4500 \nPRE-SHOW DINNER TICKETS \nBuffet Menu \nA Selection of Dinner Rolls with Butter\nFresh Garden Greens with Assorted Dressings\nPenne Pasta Salad\nNew Potato Salad\nCorn salad\nChicken Thighs with Mushroom Sauce\nChef’s Vegetable Selection\nPerogies with Sour Cream\nCentre Crafted Cabbage Mounds with Braised Cabbage\nDessert Table with an Assortment of Cakes and Pies\nFresh Brewed Coffee (Regular & Decaffeinated) & Specialty Teas
URL:https://conexusartscentre.ca/event/music-of-the-night/
LOCATION:Conexus Arts Centre – Capital Auto Theatre\, 200 Lakeshore Drive\, Regina\, Saskatchewan\, S4S 7L3\, Canada
CATEGORIES:Show in Calendar,Show in Scroller
ATTACH;FMTTYPE=image/jpeg:https://conexusartscentre.ca/wp-content/uploads/2025/06/MOTN-1-1080-x-1080.jpg
END:VEVENT
BEGIN:VEVENT
DTSTART;TZID=America/Regina:20250930T173000
DTEND;TZID=America/Regina:20250930T220000
DTSTAMP:20260423T065143
CREATED:20250908T174257Z
LAST-MODIFIED:20250918T193737Z
UID:10001964-1759253400-1759269600@conexusartscentre.ca
SUMMARY:Celebrating Indigenous Hockey Legends\, presented by Bouchier
DESCRIPTION:Date: Tuesday\, September 30\nTime: 5:00 PM\nLocation: Conexus Arts Centre – Convention Hall \nThanks to the generous support of our ticket sponsor – Boss Lubricants\, we are pleased to offer a limited-time discounted rate on ticket sales. \nIndividual Tickets are now $150.00\nTables of 8 are discounted to $1\,100 \nBUY TICKETS \nOn September 30\, 2025\, the Western Canada Professional Hockey Scouts Foundation\, together with Bouchier\, will host a dinner in conjunction with the National Day for Truth and Reconciliation. The dinner’s theme will be ‘Celebrating Indigenous Hockey Legends\,’ and at least two Hot Stove sessions. \nThe hot stove sessions will feature legends such as\, Kalley Armstrong\, Ron Delorme\, Brent Dodginghorse\, the King brothers\, D.J. and Dwight\, Jon (Nasty) Mirasty\, Rich Pilon\, Jordon Tootoo\, Bryan Trottier and Dave (Tiger) Williams. \nThe majority of the fundraising and donated proceeds from the evening will be shared with Regina-area organizations\, including the Ranch Ehrlo Society’s Outdoor Hockey League\, KidSport Saskatchewan\, and the Circle Project.
URL:https://conexusartscentre.ca/event/celebrating-indigenous-hockey-legends-presented-by-bouchier/
LOCATION:Convention Hall
CATEGORIES:Show in Calendar,Show in Scroller
ATTACH;FMTTYPE=image/jpeg:https://conexusartscentre.ca/wp-content/uploads/2025/09/WCPHSF-Event.jpg
END:VEVENT
END:VCALENDAR