BEGIN:VCALENDAR
VERSION:2.0
PRODID:-//Conexus Arts Centre - ECPv6.15.20//NONSGML v1.0//EN
CALSCALE:GREGORIAN
METHOD:PUBLISH
X-WR-CALNAME:Conexus Arts Centre
X-ORIGINAL-URL:https://conexusartscentre.ca
X-WR-CALDESC:Events for Conexus Arts Centre
REFRESH-INTERVAL;VALUE=DURATION:PT1H
X-Robots-Tag:noindex
X-PUBLISHED-TTL:PT1H
BEGIN:VTIMEZONE
TZID:America/Chicago
BEGIN:DAYLIGHT
TZOFFSETFROM:-0600
TZOFFSETTO:-0500
TZNAME:CDT
DTSTART:20240310T080000
END:DAYLIGHT
BEGIN:STANDARD
TZOFFSETFROM:-0500
TZOFFSETTO:-0600
TZNAME:CST
DTSTART:20241103T070000
END:STANDARD
BEGIN:DAYLIGHT
TZOFFSETFROM:-0600
TZOFFSETTO:-0500
TZNAME:CDT
DTSTART:20250309T080000
END:DAYLIGHT
BEGIN:STANDARD
TZOFFSETFROM:-0500
TZOFFSETTO:-0600
TZNAME:CST
DTSTART:20251102T070000
END:STANDARD
BEGIN:DAYLIGHT
TZOFFSETFROM:-0600
TZOFFSETTO:-0500
TZNAME:CDT
DTSTART:20260308T080000
END:DAYLIGHT
BEGIN:STANDARD
TZOFFSETFROM:-0500
TZOFFSETTO:-0600
TZNAME:CST
DTSTART:20261101T070000
END:STANDARD
END:VTIMEZONE
BEGIN:VEVENT
DTSTART;TZID=America/Chicago:20250124T200000
DTEND;TZID=America/Chicago:20250124T200000
DTSTAMP:20260420T064254
CREATED:20241010T140041Z
LAST-MODIFIED:20241011T223644Z
UID:10001384-1737748800-1737748800@conexusartscentre.ca
SUMMARY:Funny You Should Say That - Gerry Dee Stand-Up Comedy Tour
DESCRIPTION:Date: January 24\, 2025\nTime: 8:00 PM\nDoors Open: 7:00 PM \nRegular Prices: $65.90 – $108.19 (Plus applicable service charges and fees.) \nVenue Pre-Sale: Thursday\, October 17 at 10:00 AM until 10:00 PM\nOn Sale: Friday\, October 18 at 10:00 AM \nBUY TICKETS \nGerry Dee is famously known for his creation of the hit sitcom “Mr. D” and his current roles as the host of “Family Feud Canada” and on Fox’s hit comedy sitcom “Animal Control”. The “Funny You Should Say That” tour will make 13 stops in cities he did not travel to in 2024 including Calgary\, Edmonton\, London\, Montreal\, Halifax\, and more. \n“The launch of a new tour is always an exciting time for me – bringing me back to how it all started and doing what I love to do\,” said Gerry Dee\, “Getting a chance to visit some cities that I haven’t been to in a few years is always nice!”
URL:https://conexusartscentre.ca/event/gerry-dee/
LOCATION:Conexus Arts Centre – Capital Auto Theatre\, 200 Lakeshore Drive\, Regina\, Saskatchewan\, S4S 7L3\, Canada
CATEGORIES:Show in Calendar,Show in Scroller
ATTACH;FMTTYPE=image/jpeg:https://conexusartscentre.ca/wp-content/uploads/2024/10/Static_Venue_1080x1080_GerryDee_2025_Regional_ConexusArtsCentre_0124.jpg
END:VEVENT
BEGIN:VEVENT
DTSTART;TZID=America/Chicago:20250131T193000
DTEND;TZID=America/Chicago:20250201T170000
DTSTAMP:20260420T064254
CREATED:20241112T160024Z
LAST-MODIFIED:20241112T204905Z
UID:10001872-1738351800-1738429200@conexusartscentre.ca
SUMMARY:Harry Potter And The Chamber Of Secrets™ In Concert
DESCRIPTION:Dates: \nFriday\, January 31 at 7:30 PM\nSaturday\, February 1 at 2:00 PM \nPre-Sale: October 29 at 10:00 AM until October 31 at 11:59 PM\nOn Sale: November 1 at 10:00 AM \nPrice: $64.50 – $129.50 (Plus applicable fees and charges.) \nGroup pricing is also available. Please contact the Box Office at 306-525-9999 for more information or to purchase. \nJanuary 31 at 7:30 PM \nFebruary 1 at 2:00 PM \nIn Harry Potter and the Chamber of Secret™\, cars fly\, trees fight back and a mysterious house-elf comes to warn Harry Potter at the start of his second year at Hogwarts. Adventure and danger await when bloody writing on a wall announces: The Chamber of Secrets™ has been opened. To save Hogwarts will require all of Harry\, Ron and Hermione’s magical abilities and courage. \nWIZARDING WORLD and all related trademarks\, characters\, names\, and indicia are © & ™ Warner Bros. Entertainment Inc. Publishing Rights © JKR.
URL:https://conexusartscentre.ca/event/harry-potter-and-the-chamber-of-secrets-in-concert/
LOCATION:Conexus Arts Centre – Capital Auto Theatre\, 200 Lakeshore Drive\, Regina\, Saskatchewan\, S4S 7L3\, Canada
CATEGORIES:Show in Calendar,Show in Scroller
ATTACH;FMTTYPE=image/jpeg:https://conexusartscentre.ca/wp-content/uploads/2024/10/HP2_REGINA_600x600_2SHOW-1.jpg
END:VEVENT
END:VCALENDAR